
BEGIN:VCALENDAR
VERSION:2.0
PRODID:-//wp-events-plugin.com//7.2.3.1//EN
TZID:Europe/Stockholm
X-WR-TIMEZONE:Europe/Stockholm
BEGIN:VEVENT
UID:1214@book.weld.se
DTSTART;TZID=Europe/Stockholm:20240201T190000
DTEND;TZID=Europe/Stockholm:20240201T200000
DTSTAMP:20240130T113709Z
URL:https://book.weld.se/e/kidsweld-skymningsfaglar/
SUMMARY:Skymningsfåglar / Katja Seitajoki
DESCRIPTION:Skymningsfåglar\nEn betraktelse om mörkrets betydelse för de
 t levande\nFör vuxna och unga (från 10 år)\n\nHär möter du all den li
 vfulla aktiviteten som pågår i naturen när människan vanligtvis ligger
  och sover. Ett oändligt mörker som vi varken kan förklara eller först
 å\, men som ändå är en plats med trädtoppar som skymtar i månljus. I
 nsekter i hårt arbete\, fladdermöss som jagar och lysmaskar som leker ku
 rragömma i växtligheten i natten. En upplevelse där vi som i skymningen
  får känna hur ljuset avtar och mörkrets dunkla värld tar över.\n\nI 
 föreställningen sveper ljud\, rörelse och ljus in oss i den mörka natu
 ren där ögon och öron\, känselspröt och känslokroppar uppmärksammar
  oss i natten. Publiken blir en del av iscensättningen och i mörkret bli
 r deras konturer vaga och omgivningen sipprar in i dem. Rörelse från fla
 ddermöss\, fukt\, vind och lysmaskar formar dansarnas kroppar och leder d
 ansen in i skärningspunkten mellan mörker och ljus. Vi spekulerar i hur 
 det är att vara ett djur\, en växt eller en insekt med förmågor särsk
 ilt anpassade till mörkret.\n\nI en tid av dygnet runt-konsumtion\, ljusf
 öroreningar och klimatförändringar begrundar vi mörkret och frågar os
 s vad människan är i den dunkla naturen. Genom rörelse\, text och ljud 
 skapas både vackra och grymma scenbilder där vi låter det mer-än-mäns
 kliga leda oss.\n\n\nIdé och koreografi: Katja Seitajoki i samarbete med 
 dansarna och Lisen Pousette\nDansare: Ellen Söderhult\, Noah Hellwig och 
 Lisen Ellard\nKompositör: Tomas Björkdal och Lena Swanberg\nText: Alexan
 dra Loonin\nKostym och scenografi: Maline Casta\nLjus: Mira Svanberg\nFoto
 : Jose Figueroa\nTeknik: Ronald Salas\nSömmerska: Lotta Danfors\nKonstruk
 tör ljusskulpturer: Rolf Schuurmans\nProduktion: Arena Baubo\nSkymningsf
 åglar görs i samarbete med SITE\, Weld\, DansPlats Skog\, Skeppsholmsstu
 dion och Gula Villan. Med stöd av Konstnärsnämnden\, Kulturrådet\, Sto
 ckholms Stad och Region Stockholm.\n\n\n\nWeld stöds av Stockholms stad\,
  Statens kulturråd och Region Stockholm
ATTACH;FMTTYPE=image/jpeg:https://book.weld.se/wp-content/uploads/2023/12/
 Affisch_Webb_02.jpg
LOCATION:Weld\, Norrtullsgatan 7\, Stockholm\, Sverige
X-APPLE-STRUCTURED-LOCATION;VALUE=URI;X-ADDRESS=Norrtullsgatan 7\, Stockhol
 m\, Sverige;X-APPLE-RADIUS=100;X-TITLE=Weld:geo:0,0
END:VEVENT
BEGIN:VTIMEZONE
TZID:Europe/Stockholm
X-LIC-LOCATION:Europe/Stockholm
BEGIN:STANDARD
DTSTART:20231029T020000
TZOFFSETFROM:+0200
TZOFFSETTO:+0100
TZNAME:CET
END:STANDARD
END:VTIMEZONE
END:VCALENDAR