
BEGIN:VCALENDAR
VERSION:2.0
PRODID:-//wp-events-plugin.com//7.2.3.1//EN
TZID:Europe/Stockholm
X-WR-TIMEZONE:Europe/Stockholm
BEGIN:VEVENT
UID:907@book.weld.se
DTSTART;TZID=Europe/Stockholm:20220514T130000
DTEND;TZID=Europe/Stockholm:20220514T170000
DTSTAMP:20220426T193506Z
URL:https://book.weld.se/e/ma-choreography-22-amalia-kasakove-toast/
SUMMARY:MA CHOREOGRAPHY 22: Amalia Kasakove - Toast
DESCRIPTION:\n\n\n\n\nAn installation in the gutter between animation and c
 horeography. This installation proposes a site where one could attend to 
 reflections on death and dying in a space that is public and shared.\n\nI
  have begun approaching materials that I could hold onto\, animating thing
 s other than myself. The work addresses that which is both achingly presen
 t as well as utterly gone.\n\nThe research reflects on the ecstatic edges 
 of grief and the way in which grief can expand into dimensions outside of 
 yourself - forming a relationship of alienation as well as intimacy with s
 uch proportions.\n\nThe work will be presented as an installation where yo
 u are welcome to stay as long or as short as you wish. It offers a discret
 e critique on the attempts that try to resolve grief and in turn suggests 
 a shared space of mourning.\n\n\n\n\n\nCredits\n\n\n\n\n\nAnimation\, film
 ing\, editing &amp\; set design by Amalia Kasakove\nConstruction by Amalia
  Kasakove and Ilon Paz\nMentor: Siegmar Zacharias\nFilming support: Shauhe
 en Daneshfar\nThank you to: Rebecca Hilton\, Jennifer Lacey\, Sara Gebran\
 , Alice Chauchat and the countles others that have been near\n\n\n\n\n\nA
 malia Kasakove\nAmalia Kasakove (they/she) is a Stockholm/Copenhagen base
 d artist working somewhere in the gutter between animation and choreograph
 y. They are a graduate of the Danish National School of Performing Arts an
 d currently in the final sprint of the Master Degree in Choreography at St
 ockholm University of the Arts. They are a part of the artist duo A Kasako
 ve / A Ourø and a co-founder of Dance Cooperative\; an artist-run space a
 nd platform for intersectional practices\, work and performance organized 
 by 16 artists. They work closely with places such as Warehouse9 and Stäl
 lbergs Gruva.\n\n\n\nMA Choreography 2022: What can choreography be and do
 ?\nThis event is part of the showings of the MA Choreography degree projec
 ts of 2022 at SKH and WELD 10-22 May.\n\nPlease join us at both Weld and S
 KH Brinellvägen 58 to launch careers\, celebrate spring\, be together in 
 difficult times and wonder about the future of art.\n\nProgram and tickets
ATTACH;FMTTYPE=image/jpeg:https://book.weld.se/wp-content/uploads/2022/04/
 Toast_A-Kasakove.jpeg
LOCATION:Weld\, Norrtullsgatan 7\, Stockholm\, Sverige
X-APPLE-STRUCTURED-LOCATION;VALUE=URI;X-ADDRESS=Norrtullsgatan 7\, Stockhol
 m\, Sverige;X-APPLE-RADIUS=100;X-TITLE=Weld:geo:0,0
END:VEVENT
BEGIN:VTIMEZONE
TZID:Europe/Stockholm
X-LIC-LOCATION:Europe/Stockholm
BEGIN:DAYLIGHT
DTSTART:20220327T030000
TZOFFSETFROM:+0100
TZOFFSETTO:+0200
TZNAME:CEST
END:DAYLIGHT
END:VTIMEZONE
END:VCALENDAR