
BEGIN:VCALENDAR
VERSION:2.0
PRODID:-//wp-events-plugin.com//7.2.3.1//EN
TZID:Europe/Stockholm
X-WR-TIMEZONE:Europe/Stockholm
BEGIN:VEVENT
UID:899@book.weld.se
DTSTART;TZID=Europe/Stockholm:20220512T200000
DTEND;TZID=Europe/Stockholm:20220512T204500
DTSTAMP:20220425T120640Z
URL:https://book.weld.se/e/ma-choreography-22-erik-valentin-berg-massa/
SUMMARY:MA CHOREOGRAPHY 22: Erik Valentin Berg - Mässa
DESCRIPTION:Three performers are suddenly on a chapel stage where something
  strange has happened to semiotics.\n\nThe usual conceptions are put out o
 f commission. Signs and symbols have disconnected from apparent meaning an
 d are no longer legible. Every attempt to convey a message refuses to upho
 ld decent standards of clarity. Any pursuit of contact is a risk of being 
 misinterpreted. This terror implicates everyone involved in a obscure code
 pendency.\n\nThis is a mass\, in preparation for the revelation of its own
  meaning. Three hosts are communicating with what they have to the throbbi
 ng sound of electric guitars. Because the hour is certain to come.\n\nWelc
 ome!\n\nConcept\, Choreography\, Music: Erik Valentin Berg\n\nPerformers: 
 Erik Valentin Berg\, Sybrig Dokter\, Nadja Voorham\n\nSupervision: Margré
 t Sara Guðjónsdóttir\nErik Valentin Berg\nErik Valentin Berg is an arti
 st born 1984 in Stockholm.\n\nHis works deal with organizations of the soc
 ial body\, mystery and language. The works usually exist in overlapping ar
 tistic fields where choreography is the common denominator. Lately\, his w
 orks have been presented by MDT\, and published in Koreografisk Journal. H
 e holds a B.A in Art History from Södertörn University College (2004-200
 7) and an M.A in Choreography from Stockholm University of the arts (2020-
 2022)\n\nImage: Erik Valentin Berg / Mariana Costa / Nefeli Gioti\n\nwww.e
 rikvalentinberg.com\n\n\n\nMA Choreography 2022: What can choreography be 
 and do?\nThis event is part of the showings of the MA Choreography degree 
 projects of 2022 at SKH and WELD 10-22 May.\n\nPlease join us at both Weld
  and SKH Brinellvägen 58 to launch careers\, celebrate spring\, be togeth
 er in difficult times and wonder about the future of art.\n\nProgram and t
 ickets
ATTACH;FMTTYPE=image/jpeg:https://book.weld.se/wp-content/uploads/2022/04/
 MASSA_EVB.jpg
LOCATION:Weld\, Norrtullsgatan 7\, Stockholm\, Sverige
X-APPLE-STRUCTURED-LOCATION;VALUE=URI;X-ADDRESS=Norrtullsgatan 7\, Stockhol
 m\, Sverige;X-APPLE-RADIUS=100;X-TITLE=Weld:geo:0,0
END:VEVENT
BEGIN:VTIMEZONE
TZID:Europe/Stockholm
X-LIC-LOCATION:Europe/Stockholm
BEGIN:DAYLIGHT
DTSTART:20220327T030000
TZOFFSETFROM:+0100
TZOFFSETTO:+0200
TZNAME:CEST
END:DAYLIGHT
END:VTIMEZONE
END:VCALENDAR