
BEGIN:VCALENDAR
VERSION:2.0
PRODID:-//wp-events-plugin.com//7.2.3.1//EN
TZID:Europe/Stockholm
X-WR-TIMEZONE:Europe/Stockholm
BEGIN:VEVENT
UID:896@book.weld.se
DTSTART;TZID=Europe/Stockholm:20220512T180000
DTEND;TZID=Europe/Stockholm:20220512T190000
DTSTAMP:20220425T120640Z
URL:https://book.weld.se/e/ma-choreography-22-hugo-hedberg-a-figure-and-it
 s-other-stories%e2%80%af-2/
SUMMARY:MA CHOREOGRAPHY 22: Hugo Hedberg - A Figure and Its Other Stories
  
DESCRIPTION:A Figure and Its Other Stories \nA dance performance\, a book
  and a concert.\n\nA figure is living in a real world. It goes about its d
 ay and tries to live a normal life. But occasionally it sinks into other w
 orlds where time\, space and sensing functions differently. In these world
 s it can find itself in a gut looking for a beat\, being stuck in a two-di
 mensional ritual\, grinding juice or falling into foam. These peculiar cos
 moses are often filled with music which guides and supports the figure. Al
 ong the way it meets other figures and friends that eventually become an i
 ntegral part of its story.\n\nThe work will be presented in three parts: a
  dance performance\, a book and a concert.\n\nChoreography: Hugo Hedberg\n
 Developed and performed by Nellie Björklund\, Ane Carlsen\, Hugo Hedberg 
 and Kacper Migas\nThe book A Figure and Its Other Stories can be bought at
  the event.\n\nCredits\nCostume: Konrad Lidén\nMusic: Hugo Hedberg\nLight
 : Christian Antila\nThinking partner: Peter Mills\nThanks to Alice Chaucha
 t and Alice MacKenzie\nHugo Hedberg\nHugo Hedberg is a choreographer and a
 rtist based in Stockholm. He is busy with autofictional worldmaking. Hugo 
 works with singing\, writing and dancing as a way to create humorous and a
 mbiguous experiences. He is educated in fine arts at Oslo National Academy
  of The Arts\, at Tanzfabrik in Berlin and is currently finishing an MFA i
 n Choreography at Stockholm University of the Arts.\n\n\n\nMA Choreography
  2022: What can choreography be and do?\nThis event is part of the showing
 s of the MA Choreography degree projects of 2022 at SKH and WELD 10-22 May
 .\n\nPlease join us at both Weld and SKH Brinellvägen 58 to launch career
 s\, celebrate spring\, be together in difficult times and wonder about the
  future of art.\n\nProgram and tickets
ATTACH;FMTTYPE=image/jpeg:https://book.weld.se/wp-content/uploads/2022/04/
 Picture-credit-Hugo-Hedberg.jpg
LOCATION:Weld\, Norrtullsgatan 7\, Stockholm\, Sverige
X-APPLE-STRUCTURED-LOCATION;VALUE=URI;X-ADDRESS=Norrtullsgatan 7\, Stockhol
 m\, Sverige;X-APPLE-RADIUS=100;X-TITLE=Weld:geo:0,0
END:VEVENT
BEGIN:VTIMEZONE
TZID:Europe/Stockholm
X-LIC-LOCATION:Europe/Stockholm
BEGIN:DAYLIGHT
DTSTART:20220327T030000
TZOFFSETFROM:+0100
TZOFFSETTO:+0200
TZNAME:CEST
END:DAYLIGHT
END:VTIMEZONE
END:VCALENDAR