
BEGIN:VCALENDAR
VERSION:2.0
PRODID:-//wp-events-plugin.com//7.2.3.1//EN
TZID:Europe/Stockholm
X-WR-TIMEZONE:Europe/Stockholm
BEGIN:VEVENT
UID:893@book.weld.se
DTSTART;TZID=Europe/Stockholm:20220510T200000
DTEND;TZID=Europe/Stockholm:20220510T211500
DTSTAMP:20220510T125042Z
URL:https://book.weld.se/e/ma-choreography-22-mariana-costa-the-chicken/
SUMMARY:MA CHOREOGRAPHY 22: Mariana Costa - The Chicken
DESCRIPTION:Miss Có\,\n\nI put a spell on you because you are an oblique a
 nd greedy head-shifter\n\n 	SCRATCH the paper 3 times.\n 	EAT 3 stories.\n
  	SWALLOW 3 dis-con-formed shapes.\n\n\n 	FILL\, TWIST AND SQUEEZE 3 ballo
 ons\, and then\, while the air blows out\,\n\nSay these cursed words in yo
 ur mother tongue:\n\nDISTRACT the excessiveness while you DRAG a path.\n\n
 TRACE plastic organs’ libations.\n\nLICK enchanted anthropophagus (or at
  least steal their lollipops).\n\nPEEL aphorisms off in an empty theater.\
 n\nKNEAD ghost dances and erotic nostalgia.\n\nSTRETCH lingering inside He
 rmes-Mercury’s hat.\n\nSCATTER pleasures and ping pong farts.\n\nCLOAK s
 piritualities at a kid’s lunchtime.\n\nFOLD the death.\n\nBITE goddesses
 \, demons and matters.\n\nCUDDLE the Bathroom’s Blonde (Bloody Mary) on 
 a dance floor.\n\nCOVER the not not land\, while having an eye on the corn
  and another on the wolf simultaneously\n\nH(A)UNT messianic translations 
 to be permanently surviving.\nChicken’s disguise\nThis performance\, dev
 eloped inside the master’s frame\, is an extract of my experiments of en
 tangling the practices and research in an interplay of multisensoriality a
 nd imagination as a value of liveness and community. "The Chicken'' incarn
 ates the translation from different languages/ backgrounds\, accepting and
  crossing the gaps\, failures\, and transformations.\n\n“The chicken” 
 is an entity who lives in the small talks between friends\, while they dan
 ce through somatic-based experiences focused on energy\, material-spiritua
 l forms and skin awareness. Besides being a storyteller\, The Chicken is a
  messenger that crosses bodies of daily life\, intimacy\, vulnerability\, 
 science\, magic\, colonization and History.\nThe Chicken Coop\nConception 
 and Choreography: Mariana Costa \n\nDramaturgy and Choreographic assistan
 ce: Korina Kordova\n\nCo-creation and Performance: Korina Kordova\, Marian
 a Costa and Valentina Parravicini\n\nMusic and Sound design: Eric Reid\n\n
 External eye/ Studio Companion: Alexis Steeves\n\nThinking Partner: Gustav
 o Ciríaco\n\nMusic advisor: Daniel Conti\n\nText: Made from the writings 
 of Clarice Lispector\, Luiz Antonio Simas\, Lygia Clark\, Millôr Fernande
 s\, Nei Lopes\, Oswald de Andrade\, and Betty Mindlin.\n\nCollaborators in
  previous performative studies: the musician Rossana Mercado-Rojas and the
  performers Myrto Delimichali (during all process)\, Roula Samiotaki and A
 malia Kasakove.\n\nThanks to: Aline Belfort\, Andrea Diaz Ghiretti\, Cater
 ina Mora\, Dalija Acin Thelander\, Emelia Koberg\, Erik Valentin Berg\, Fr
 edrik Heimdahl\, Gérald Tarek\, Hazem Shahin\, Ingela Stefaniak Ohman\, J
 ennifer Lacey\, Karin Hauptmann\, Larissa Ballarotti\, Maipelo Gabang\, Ma
 ja Wilhite-Hannisdal\, Matthew D’Arcy\, Nefeli Gioti\, Orlando Ravadoni\
 , Peter Mills\, Siegmar Zacharias\, Stella Kruusamägi\, Tiago Feliciano a
 nd Victor Gáspari Canela.\n\nGraphic Design: Mariana Costa and Victor Gá
 spari Canela\n\nfrom photos of: Hazem Shahin and  Hugo Hedberg\n\n\n\nMar
 iana Costa (BR/IT)\nis a dancer\, choreographer\, performer and teacher. S
 he is currently based in Stockholm\, Sweden\, pursuing a masters degree in
  Choreography at SKH – Stockholm University of the Arts (2020-2022). Unt
 il 2020 she lived and worked in São Paulo\, Brazil\, where she began her 
 studies in dance. She has a bachelor's degree in architecture and urbanism
  from Universidade Presbiteriana Mackenzie (BR). Carried out artistic trai
 ning and at C.E.M - Centro em Movimento in Lisbon (PT)\, going through F.I
 .A. and creative internships.\n\nShe explores choreography in transdiscipl
 inary approaches and investigates dance creations that relate to architect
 ure and the visual arts. It's from this sum that her investigations and ex
 periments are born. Besides her solo creations\, she developed projects in
  collaboration with several artists. Until 2020 Mariana Costa integrated t
 he dance collective Coletivo Elástica\, acting both as director and dance
 r. Some of  her choreographic works are "Ter(e)mim vs. 0.1" (2020) in col
 laboration with musician Daniel Conti\, "Intrapelícula" (2017)\, in colla
 boration with Larissa Ballarotti\, "Projeto Membranas" 2011-2015)\, in col
 laboration with Liene Bosquê\, which unfolded into the performances "Memb
 ranas I - Peel It Off" (2013)\, "Membranas Ocupa o Largo" (2014) and "Memb
 ranas Duplo" (2015)\, performed at festivals\, galleries and cultural cent
 ers in Brazil and New York.\n\nAs a dancer and performer\, Mariana Costa c
 ollaborated in a wide range of projects by choreographers and artists. She
  acted as dancer and creator in the performance "Monstra" (2017-2020)\, di
 rected by Elisabete Finger and Manuela Eichner and presented in cities thr
 oughout Brazil\, such as São Paulo\, Salvador\, Teresina\, as well as in 
 Montevideo\, Uruguay\, and Malmö\,Sweden.\n\nMariana has also worked prof
 essionally in the audiovisual field as choreographer\, performer and costu
 me designer. She also worked with the visual fields\, executing set design
  projects\, art direction\, graphic and print design for fashion and illus
 tration projects\, besides collaborating as a live model for drawing class
 es and photography art projects.\n\n\n\nMA Choreography 2022: What can cho
 reography be and do?\nThis event is part of the showings of the MA Choreog
 raphy degree projects of 2022 at SKH and WELD 10-22 May.\n\nPlease join us
  at both Weld and SKH Brinellvägen 58 to launch careers\, celebrate sprin
 g\, be together in difficult times and wonder about the future of art.\n\n
 Program and tickets
ATTACH;FMTTYPE=image/jpeg:https://book.weld.se/wp-content/uploads/2022/04/
 Mariana-Costa-FlyerCHICKEN_May2022.jpeg
LOCATION:Weld\, Norrtullsgatan 7\, Stockholm\, Sverige
X-APPLE-STRUCTURED-LOCATION;VALUE=URI;X-ADDRESS=Norrtullsgatan 7\, Stockhol
 m\, Sverige;X-APPLE-RADIUS=100;X-TITLE=Weld:geo:0,0
END:VEVENT
BEGIN:VTIMEZONE
TZID:Europe/Stockholm
X-LIC-LOCATION:Europe/Stockholm
BEGIN:DAYLIGHT
DTSTART:20220327T030000
TZOFFSETFROM:+0100
TZOFFSETTO:+0200
TZNAME:CEST
END:DAYLIGHT
END:VTIMEZONE
END:VCALENDAR