
BEGIN:VCALENDAR
VERSION:2.0
PRODID:-//wp-events-plugin.com//7.2.3.1//EN
TZID:Europe/Stockholm
X-WR-TIMEZONE:Europe/Stockholm
BEGIN:VEVENT
UID:903@book.weld.se
DTSTART;TZID=Europe/Stockholm:20220513T180000
DTEND;TZID=Europe/Stockholm:20220513T184000
DTSTAMP:20220425T120640Z
URL:https://book.weld.se/e/ma-choreography-22-nasreen-aljanabi-larsson-wha
 t-if-clitoriography/
SUMMARY:MA CHOREOGRAPHY 22: Nasreen Aljanabi Larsson - What if Clitoriograp
 hy
DESCRIPTION:Final master presentation of the ongoing artistic research Clit
 oriography.\n\nIn this public presentation of Nasreen’s ongoing work\, t
 he search centers on finding the clitoris\, connecting to it\, and mapping
  its 8000 nerve endings through somatic movement practices and develop met
 hods in using this energy in body-based artistic creation\, illuminating c
 litoris energy in creativity and its impact on the artistic process throug
 h dance and performance.\n\n"What if Clitoriography" explore critical ques
 tions and reflect on what if we are choreographed by our clitoris\, or our
  clitoris choreographed by us\, do we choreograph our clitoris or who actu
 ally does?\nWith and by\nKarin Schmidt\nAlice MacKenzie\nNasreen Aljanabi 
 Larsson\n\nPhoto: Cato Lein\n\nMany Thanks to:\nSupporters and thinking pa
 rtners: Tor Pentén\, Jenny Collén\, Nasim Aghili\, Jennifer Lacy\, Sigma
 r Zacharias\, Sara Gebran\, Lagaylia Frazier\, Victoria Moralez\, Joud Has
 an\, Cátia Leitão.\n\nPrevious collaborators: Maria Naidu\, Sepideh Khod
 arahmi\, Nassim Meki.\n\nTechnical collaborator: Mikael Kinander\nNasreen 
 Aljanabi Larsson\nChoreographer and dancer based in Stockholm borne 1981 i
 n Damascus where Nasreen was graduate bachelor in expressive dance at the 
 Higher institute of Dramatic arts in Damascus.\n\nSince moving to Sweden\,
  Nasreen trying to navigate dedicatedly to keep their discipline as perfor
 mer\, where Nasreen freelanced through performance art in different genera
  such as clown and circus. Nasreen is a yoga practitioner and has yoga tea
 ching education.\nLast couple of years due to MA studies\, Nasreen started
  an artistic research "Clitoriography" by developing body based somatic pr
 actices in exploration of the clitoral energy.\n\n\n\nMA Choreography 2022
 : What can choreography be and do?\nThis event is part of the showings of 
 the MA Choreography degree projects of 2022 at SKH and WELD 10-22 May.\n\n
 Please join us at both Weld and SKH Brinellvägen 58 to launch careers\, c
 elebrate spring\, be together in difficult times and wonder about the futu
 re of art.\n\nProgram and tickets
ATTACH;FMTTYPE=image/jpeg:https://book.weld.se/wp-content/uploads/2022/04/
 3ryggar.OK_7230-Photographer-Cato-Lein-scaled.jpg
LOCATION:Weld\, Norrtullsgatan 7\, Stockholm\, Sverige
X-APPLE-STRUCTURED-LOCATION;VALUE=URI;X-ADDRESS=Norrtullsgatan 7\, Stockhol
 m\, Sverige;X-APPLE-RADIUS=100;X-TITLE=Weld:geo:0,0
END:VEVENT
BEGIN:VTIMEZONE
TZID:Europe/Stockholm
X-LIC-LOCATION:Europe/Stockholm
BEGIN:DAYLIGHT
DTSTART:20220327T030000
TZOFFSETFROM:+0100
TZOFFSETTO:+0200
TZNAME:CEST
END:DAYLIGHT
END:VTIMEZONE
END:VCALENDAR