
BEGIN:VCALENDAR
VERSION:2.0
PRODID:-//wp-events-plugin.com//7.2.3.1//EN
TZID:Europe/Stockholm
X-WR-TIMEZONE:Europe/Stockholm
BEGIN:VEVENT
UID:1006@book.weld.se
DTSTART;TZID=Europe/Stockholm:20221118T180000
DTEND;TZID=Europe/Stockholm:20221118T184500
DTSTAMP:20221117T103705Z
URL:https://book.weld.se/e/open-showing-weld-company-extended-harald-behar
 ie-no-jm/
SUMMARY:Open showing: Weld Company Extended + Harald Beharie (NO/JM)
DESCRIPTION:Weld Extended is an extension of the experimental project Weld 
 Company (2013). This autumn and spring\, Extended will be in focus while w
 e re-examine our larger project. During the autumn we have invited both Sw
 edish and international choreographers to share their practice.\n\n\n\nWel
 d Extended is an open project with dancers/choreographers who have not wor
 ked with us in this constellation before. We want to open up for more Swed
 ish and international dancers and choreographers and do this by conducting
  a short curious process together.\n\nThe invitation to the choreographer 
 is to share their practice for a few days and to create choreographic mate
 rial linked to 12 minutes of composed music by the Swedish composer Tomas 
 Björkdahl. The work will offer different interpretations of the same comp
 osition. The work will end each week with a short open sharing of the proc
 ess.\n\nDancers participating in different constellations: Natalia Drozd\,
  Andreas Haglund\, Maria Naidu\, Wiliam Nylind\, Alice MacKenzie\, Anna Pe
 hrsson\, Jade Stenhuijs and Stina Ehn.\n\n\n\n[caption id="attachment_228
 6" align="alignnone" width="300"] Photo: Julie Hrncirová[/caption]\n\nHar
 ald Beharie (NO/JM)\nNorwegian-Jamaican performer and choreographer based 
 in Oslo. His practice looks into alternative modes of being\, dancing and 
 existing together while questioning notions of normativity. His choreograp
 hic practice unfolds in various constellations with other dance and visual
  artists\, and some of the leading interests in his work at the moment are
  dissecting known physical narratives and opening for a conscious naivety 
 and playfulness while indulging into the pathetic\, collapsing but still j
 oyful body. He is a part of the performance collective – De Naive\, a gr
 oup that mainly works with dance practice as soft activism – inviting an
 d invading public space with social performances. From 2016-2019 he was pa
 rt of Carte Blanche- The Norwegian National company of contemporary dance.
  Haralds work has received nominations for the Norwegian Critics Associati
 on prize for the performances "Shine Utopians" with Louis Schou (2020) and
  the solo work Batty Bwoy (2022).\n\n\n\nInvited choreographers\n\nNicol
 e Neidert (SE) open showing on October 27 at 6pm\n\nElisabete Finger (BR/D
 E) open showing on November 4 at 6pm\n\nFemke Gyselinck (BE) open showing
  on November 11 at 6pm\n\nHarald Beharie (NO) open showing on November 18 
 at 6pm\n\nWe have also invited Virpi Pahkinen (SE/FI) for a special projec
 t in Weld Extended which will be reported later.\n\nRead more about all th
 e choreographers and this autumn's work with Weld Company Extended at weld
 .se\n\n\n\nWeld is supported by Stockholms stad\, the Swedish Arts Counci
 l and Region Stockholm
ATTACH;FMTTYPE=image/jpeg:https://book.weld.se/wp-content/uploads/2022/10/
 WeldExtended200W.jpeg
LOCATION:Weld\, Norrtullsgatan 7\, Stockholm\, Sverige
X-APPLE-STRUCTURED-LOCATION;VALUE=URI;X-ADDRESS=Norrtullsgatan 7\, Stockhol
 m\, Sverige;X-APPLE-RADIUS=100;X-TITLE=Weld:geo:0,0
END:VEVENT
BEGIN:VTIMEZONE
TZID:Europe/Stockholm
X-LIC-LOCATION:Europe/Stockholm
BEGIN:STANDARD
DTSTART:20221030T020000
TZOFFSETFROM:+0200
TZOFFSETTO:+0100
TZNAME:CET
END:STANDARD
END:VTIMEZONE
END:VCALENDAR