
BEGIN:VCALENDAR
VERSION:2.0
PRODID:-//wp-events-plugin.com//7.2.3.1//EN
TZID:Europe/Stockholm
X-WR-TIMEZONE:Europe/Stockholm
BEGIN:VEVENT
UID:1005@book.weld.se
DTSTART;TZID=Europe/Stockholm:20221118T180000
DTEND;TZID=Europe/Stockholm:20221118T184500
DTSTAMP:20221117T105004Z
URL:https://book.weld.se/e/oppen-visning-weld-company-extended-harald-beha
 rie-no-jm/
SUMMARY:Öppen visning: Weld Company Extended + Harald Beharie (NO/JM)
DESCRIPTION:Weld Extended är en förlängning av det experimentella projek
 tet Weld Company (2013). I höst och i vår står Extended i fokus under t
 iden vi omprövar vårt större projekt. Under hösten har vi bjudit in s
 åväl svenska som internationella koreografer att dela med sig av sin pra
 ktik.\n\n\n\n\nWeld Extended är ett öppet projekt med dansare/koreografe
 r som inte har arbetat med oss i denna konstellation tidigare. Vi vill öp
 pna upp för fler svenska och internationella dansare och koreografer och 
 gör det genom att föra en kort nyfiken process tillsammans.\n\nInbjudan 
 till koreografen består av att under några dagar dela med sig av sin pra
 ktik och att skapa koreografiskt material kopplat till 12 minuter komponer
 ad musik av den svenske tonsättaren Tomas Björkdahl. Arbetet kommer bjud
 a på olika tolkningar av en och samma komposition. Arbetet avslutas var v
 ecka med en kort öppen delning av processen.\n\nI olika konstellationer m
 edverkande dansare: Natalia Drozd\, Andreas Haglund\, Maria Naidu\, Wiliam
  Nylind\, Alice MacKenzie\, Anna Pehrsson\,  Jade Stenhuijs och Stina Eh
 n.\n\n\n\n[caption id="attachment_2285" align="alignnone" width="300"] Fot
 o: Julie Hrncirová[/caption]\n\nHarald Beharie (NO/JM)\nNorsk-jamaikansk
  konstnär och koreograf baserad i Oslo. I sin praktik undersöker han alt
 ernativa sätt att vara\, dansa och existera tillsammans\, samtidigt som h
 an ifrågasätter föreställningar om normativitet. Hans koreografiska pr
 aktik utvecklas i olika konstellationer med andra dans- och bildkonstnäre
 r\, och några av de främsta intressena i hans arbete just nu är att dis
 sekera kända fysiska berättelser och öppna upp för en medveten naivite
 t och lekfullhet samtidigt som han hänger sig åt den patetiska\, kollaps
 ande men ändå glädjefyllda kroppen. Han är en del av performancekollek
 tivet De Naive\, en grupp som huvudsakligen arbetar med dans som ”soft a
 ctivism” – genom att bjuda in och invadera det offentliga rummet med s
 ociala föreställningar. Från 2016-2019 var han en del av Carte Blanche-
  det norska nationella kompaniet för samtida dans. Haralds verk har nomin
 erats till Norges kritikerförenings pris ” Shine Utopians" med Louis Sc
 hou (2020) och soloverket Batty Bwoy (2022).\n\n\n\nInbjudna koreografer
  hösten 2022\n\nNicole Neidert (SE) öppen visning den 27 oktober kl 18.0
 0\n\nElisabete Finger (BR/DE) öppen visning den 4 november kl 18.00\n\nFe
 mke Gyselinck (BE) öppen visning den 11 november kl 18.00\n\nHarald Behar
 ie (NO) öppen visning den 18 november kl 18.00\n\nVi har också bjudit in
  Virpi Pahkinen (SE/FI) för ett specialprojekt inom Weld Extended vilket
  kommer att redovisas senare.\n\nLäs mer om alla koreografer och höstens
  arbete med Weld Company Extended på weld.se\n\n\n\nWeld stöds av Stock
 holms stad\, Statens kulturråd och Region Stockholm
ATTACH;FMTTYPE=image/jpeg:https://book.weld.se/wp-content/uploads/2022/10/
 WeldExtended200W.jpeg
LOCATION:Weld\, Norrtullsgatan 7\, Stockholm\, Sverige
X-APPLE-STRUCTURED-LOCATION;VALUE=URI;X-ADDRESS=Norrtullsgatan 7\, Stockhol
 m\, Sverige;X-APPLE-RADIUS=100;X-TITLE=Weld:geo:0,0
END:VEVENT
BEGIN:VTIMEZONE
TZID:Europe/Stockholm
X-LIC-LOCATION:Europe/Stockholm
BEGIN:STANDARD
DTSTART:20221030T020000
TZOFFSETFROM:+0200
TZOFFSETTO:+0100
TZNAME:CET
END:STANDARD
END:VTIMEZONE
END:VCALENDAR