
BEGIN:VCALENDAR
VERSION:2.0
PRODID:-//wp-events-plugin.com//7.2.3.1//EN
TZID:Europe/Stockholm
X-WR-TIMEZONE:Europe/Stockholm
BEGIN:VEVENT
UID:1414@book.weld.se
DTSTART;TZID=Europe/Stockholm:20260509T190000
DTEND;TZID=Europe/Stockholm:20260509T200000
DTSTAMP:20260423T074319Z
URL:https://book.weld.se/e/thick-time-research-group-2/
SUMMARY:Thick Time Research Group
DESCRIPTION:Thick Time Research Group refererar till idén om ett ögonblic
 k i tiden som förkroppsligar både dess förflutna och framtida potential
 . Denna nya kvartettformation kommer att sammanföra en rad olika återcir
 kulerande processer – radioutsändningar\, analog elektronik\, rörelsek
 onstellationer\, digital ljudbearbetning och akustiska ljud – för att u
 tforska hur de kan frammana en gemensam känsla av tidens förtätning.\n\
 n\n\nSybrig Dokter — Dans\, koreografi\, rörelse\nJohn Chantler — Ana
 log syntes\, radioapparater\, bärbara högtalare.\nMattias Hållsten — 
 Shō\, SuperCollider\nDaniel M Karlsson — Cittra\, skålar\, klockor\, e
 lektronik\, SuperCollider.\n\n\n\nThick time refers to the idea of a momen
 t in time embodying both its past and future potential. This new quartet f
 ormation will bring a variety of recirculating processes together - radio 
 broadcasts\, analog electronics\, constellations of movement\, digital sou
 nd processing and acoustic soundings - to explore how they might conjure a
  shared sense of time’s thickening.\n\n\n\nSybrig Dokter — Dance\, Cho
 reography\, Movement\nJohn Chantler — Analog Synthesis\, Radios\, Portab
 le Speakers.\nMattias Hållsten — Shō\, SuperCollider.\nDaniel M Karlss
 on — Zithers\, Bowls\, Bells\, Electronics\, SuperCollider.\n\n\n\nLäs 
 mer på weld.se\n\n\n\nWeld stöds av Stockholms stad\, Statens kulturråd
  och Region Stockholm
ATTACH;FMTTYPE=image/jpeg:https://book.weld.se/wp-content/uploads/2026/04/
 sites2Fclvuuu5cs0001xwfc7ne538fo2Fmedia2Fe112563f-01fb-4d6e-9d41-ed725ba05
 82e-IMG_0971.jpeg
LOCATION:Weld\, Norrtullsgatan 7\, Stockholm\, Sverige
X-APPLE-STRUCTURED-LOCATION;VALUE=URI;X-ADDRESS=Norrtullsgatan 7\, Stockhol
 m\, Sverige;X-APPLE-RADIUS=100;X-TITLE=Weld:geo:0,0
END:VEVENT
BEGIN:VTIMEZONE
TZID:Europe/Stockholm
X-LIC-LOCATION:Europe/Stockholm
BEGIN:DAYLIGHT
DTSTART:20260329T030000
TZOFFSETFROM:+0100
TZOFFSETTO:+0200
TZNAME:CEST
END:DAYLIGHT
END:VTIMEZONE
END:VCALENDAR