
BEGIN:VCALENDAR
VERSION:2.0
PRODID:-//wp-events-plugin.com//7.2.3.1//EN
TZID:Europe/Stockholm
X-WR-TIMEZONE:Europe/Stockholm
BEGIN:VEVENT
UID:336@book.weld.se
DTSTART:20171112T160000Z
DTEND:20171112T170000Z
DTSTAMP:20171107T111641Z
URL:https://book.weld.se/e/weld-company-matthias-sperling-uk/
SUMMARY:Weld Company + Matthias Sperling
DESCRIPTION:Medverkande:  Sybrig Dokter\, Robert Malmborg\, Per Sacklén\, 
 Caroline Byström\, Disa Krosness och Matthias Sperling\n\nDen brittiske 
 koreografen och dansaren Matthias Sperling är den andre av Weld Company
 s gästkoreografer denna höst.\n\nMed restriktionen ’No Talking\, No Pr
 ops’ har Weld Company sedan starten 2013 bjudit in svenska och internati
 onella koreografer att skapa verk och ställt frågor kring vad dans är i
 dag. Weld Company består av dansare och koreografer från olika generati
 oner och sammanhang som tillsammans fördjupar sig i olika koreografiska a
 rbetsmetoder och i frågor kring det kollektiva och det gemensamma.\n\n\n\
 nIn our one-week research project\, me and Weld Company will take as a sta
 rting point a practice that I have been working with\, which I call ‘loo
 ping’. Rhythmically repeating a single movement while also gradually res
 haping it in barely perceptible increments\, the practice works on sustain
 ing a state between repetition and difference. Drawing on interests includ
 ing Deborah Hay\, Aby Warburg\, cognitive science and hypnosis\, this prac
 tice considers the possibility of performing choreography as a kind of con
 juring – seeking knowledge of the unknown through movement. / Matthias 
 Sperling\n\n\n\n&nbsp\;\n\nMATTHIAS SPERLING (UK)\när koreograf och konst
 när verksam i London.  Bland hans verk märks arbeten för teater\, gall
 eri och museum\, videoverk och utbyten på offentliga platser eller på n
 ätet. Han har bland annat presenterats på Tate Modern\, Tate Britain\, S
 outh Bank Centre\, Royal Opera House\, Dance Umbrella\, Nottdance och Spri
 ng Dans (NL). Han är en återkommande samarbetspartner till Siobhan Davie
 s\, med vilken han har skapat och presenterat verk på gallerier inklusive
  Barbican\, ICA\, Whitechapel\, Hayward\, Tramway och Turner Contemporary.
 \n\nFödd i Toronto 1974\, studerade vid Canadian Contemporary Dance Theat
 re (1984-1993) och fortsatte därefter med studier i filosofi vid universi
 tetet i Kanada innan han kom till Storbritannien för att slutföra sina d
 ansstudier vid Transitions Dance Company at Laban (1997-1998) Han dansade 
 med brittiska kompanier\, bland andra Wayne McGregor’s Random Dance (200
 1-2006) och Matthew Bourne’s Adventures In Motion Pictures (1999-2000) i
 nnan han valde att ägna sig åt sitt eget koreografiska arbete. Han var e
 n associerad konstnär vid Dance4 under perioden 2007-2015 och vann 2008 B
 onnie Bird New Choreography Award.\n\nBild: Matthias Sperling\, Loop Atlas
 \nFoto: David Oates
ATTACH;FMTTYPE=image/jpeg:https://book.weld.se/wp-content/uploads/2017/10/
 Loop-Atlas-by-Matthias-Sperling_Photo-David-Oates_part-of-Siobhan-Davies-D
 ance-material-rearranged-to-be_at-Whitworth-Manchester.jpg
LOCATION:Weld\, Norrtullsgatan 7\, Stockholm\, Sverige
X-APPLE-STRUCTURED-LOCATION;VALUE=URI;X-ADDRESS=Norrtullsgatan 7\, Stockhol
 m\, Sverige;X-APPLE-RADIUS=100;X-TITLE=Weld:geo:0,0
END:VEVENT
END:VCALENDAR